BEGIN:VCALENDAR
VERSION:2.0
PRODID:Kunsthaus Dresden
BEGIN:VEVENT
UID:4f446846-da39-461c-a357-b73608e2c413
DTSTART;TZID=Europe/Berlin:20260520T190000
DTEND;TZID=Europe/Berlin:20260520T220000
SEQUENCE:0
TRANSP:OPAQUE
LOCATION:Kunsthaus Dresden (<b>robotron-Kantine</b> Lignerallee am Skatepark 01069 Dresden <b>Garten-Kunst-Projekte Parzelle 3</b> Bergmannstraße 39 / KGV Flora I 01309 Dresden )
SUMMARY:Eröffnung: Produktive Unruhe
CLASS:PUBLIC
DESCRIPTION:Eröffnung mit einem Grußwort der Kulturbürgermeisterin Annekatrin Klepsch und einem Panelgespräch mit Beitragenden zur AusstellungAnschließend Live-Konzert der Band »Freunde der italienischen Oper« (20:00)Die Ausstellung in der robotron-Kantine nimmt die IX. und X. Kunstausstellung als größte und meistbesuchte Überblicksausstellung der DDR wie auch die Alternativkultur der 1980er Jahre als Resonanzraum gesellschaftlicher Veränderungen in den Blick.Ausgehend von historischen Sammlungsbeständen des ifa – Institutes für Auslandsbeziehungen, eröffnet die Ausstellung, an der über 40 Künstler*innen beteiligt sind, einen Dialog zwischen den Generationen und bietet Einblicke in die besondere Beziehung zwischen Kunst und Publikum.
DTSTAMP:20260421T130400Z
END:VEVENT
END:VCALENDAR
